BEGIN:VCALENDAR
VERSION:2.0
PRODID:-//Gulf Stream School - ECPv6.15.14//NONSGML v1.0//EN
CALSCALE:GREGORIAN
METHOD:PUBLISH
X-ORIGINAL-URL:https://gulfstreamschool.org
X-WR-CALDESC:Events for Gulf Stream School
REFRESH-INTERVAL;VALUE=DURATION:PT1H
X-Robots-Tag:noindex
X-PUBLISHED-TTL:PT1H
BEGIN:VTIMEZONE
TZID:America/New_York
BEGIN:DAYLIGHT
TZOFFSETFROM:-0500
TZOFFSETTO:-0400
TZNAME:EDT
DTSTART:20240310T070000
END:DAYLIGHT
BEGIN:STANDARD
TZOFFSETFROM:-0400
TZOFFSETTO:-0500
TZNAME:EST
DTSTART:20241103T060000
END:STANDARD
BEGIN:DAYLIGHT
TZOFFSETFROM:-0500
TZOFFSETTO:-0400
TZNAME:EDT
DTSTART:20250309T070000
END:DAYLIGHT
BEGIN:STANDARD
TZOFFSETFROM:-0400
TZOFFSETTO:-0500
TZNAME:EST
DTSTART:20251102T060000
END:STANDARD
BEGIN:DAYLIGHT
TZOFFSETFROM:-0500
TZOFFSETTO:-0400
TZNAME:EDT
DTSTART:20260308T070000
END:DAYLIGHT
BEGIN:STANDARD
TZOFFSETFROM:-0400
TZOFFSETTO:-0500
TZNAME:EST
DTSTART:20261101T060000
END:STANDARD
BEGIN:DAYLIGHT
TZOFFSETFROM:-0500
TZOFFSETTO:-0400
TZNAME:EDT
DTSTART:20270314T070000
END:DAYLIGHT
BEGIN:STANDARD
TZOFFSETFROM:-0400
TZOFFSETTO:-0500
TZNAME:EST
DTSTART:20271107T060000
END:STANDARD
END:VTIMEZONE
BEGIN:VEVENT
DTSTART;TZID=America/New_York:20260402T084500
DTEND;TZID=America/New_York:20260402T093000
DTSTAMP:20260424T084307
CREATED:20250611T165232Z
LAST-MODIFIED:20250611T165232Z
UID:4023-1775119500-1775122200@gulfstreamschool.org
SUMMARY:DBC Spring Egg Hunt
DESCRIPTION:
URL:https://gulfstreamschool.org/event/dbc-spring-egg-hunt/
CATEGORIES:Holidays
END:VEVENT
BEGIN:VEVENT
DTSTART;VALUE=DATE:20260119
DTEND;VALUE=DATE:20260120
DTSTAMP:20260424T084307
CREATED:20250609T172917Z
LAST-MODIFIED:20250609T172917Z
UID:3957-1768780800-1768867199@gulfstreamschool.org
SUMMARY:Martin Luther King Jr. Day (School Closed)
DESCRIPTION:
URL:https://gulfstreamschool.org/event/martin-luther-king-jr-day-school-closed/
CATEGORIES:Holidays
END:VEVENT
BEGIN:VEVENT
DTSTART;VALUE=DATE:20251225
DTEND;VALUE=DATE:20251226
DTSTAMP:20260424T084307
CREATED:20250609T171153Z
LAST-MODIFIED:20250609T171153Z
UID:3945-1766620800-1766707199@gulfstreamschool.org
SUMMARY:Christmas Day
DESCRIPTION:
URL:https://gulfstreamschool.org/event/christmas-day/
CATEGORIES:Holidays
END:VEVENT
BEGIN:VEVENT
DTSTART;VALUE=DATE:20251224
DTEND;VALUE=DATE:20251225
DTSTAMP:20260424T084307
CREATED:20250609T171122Z
LAST-MODIFIED:20250609T171122Z
UID:3944-1766534400-1766620799@gulfstreamschool.org
SUMMARY:Christmas Eve
DESCRIPTION:
URL:https://gulfstreamschool.org/event/christmas-eve/
CATEGORIES:Holidays
END:VEVENT
BEGIN:VEVENT
DTSTART;VALUE=DATE:20251222
DTEND;VALUE=DATE:20251223
DTSTAMP:20260424T084307
CREATED:20250609T170932Z
LAST-MODIFIED:20250609T170932Z
UID:3942-1766361600-1766447999@gulfstreamschool.org
SUMMARY:Hanukkah Ends
DESCRIPTION:
URL:https://gulfstreamschool.org/event/hanukkah-ends/
CATEGORIES:Holidays
END:VEVENT
BEGIN:VEVENT
DTSTART;TZID=America/New_York:20251216T080000
DTEND;TZID=America/New_York:20251216T083000
DTSTAMP:20260424T084307
CREATED:20250613T162353Z
LAST-MODIFIED:20250613T162353Z
UID:4115-1765872000-1765873800@gulfstreamschool.org
SUMMARY:Holiday Sing (Main Campus)
DESCRIPTION:
URL:https://gulfstreamschool.org/event/holiday-sing-main-campus-2/
CATEGORIES:Holidays
END:VEVENT
BEGIN:VEVENT
DTSTART;VALUE=DATE:20251214
DTEND;VALUE=DATE:20251215
DTSTAMP:20260424T084307
CREATED:20250609T164315Z
LAST-MODIFIED:20250609T164315Z
UID:3931-1765670400-1765756799@gulfstreamschool.org
SUMMARY:Hanukkah Begins
DESCRIPTION:
URL:https://gulfstreamschool.org/event/hanukkah-begins/
CATEGORIES:Holidays
END:VEVENT
BEGIN:VEVENT
DTSTART;VALUE=DATE:20251124
DTEND;VALUE=DATE:20251129
DTSTAMP:20260424T084307
CREATED:20250604T192118Z
LAST-MODIFIED:20250604T192639Z
UID:3916-1763942400-1764374399@gulfstreamschool.org
SUMMARY:Thanksgiving Break (School Closed)
DESCRIPTION:
URL:https://gulfstreamschool.org/event/thanksgiving-break-school-closed/
CATEGORIES:Holidays
END:VEVENT
BEGIN:VEVENT
DTSTART;TZID=America/New_York:20251031T113000
DTEND;TZID=America/New_York:20251031T123000
DTSTAMP:20260424T084307
CREATED:20250603T190431Z
LAST-MODIFIED:20250806T162448Z
UID:3887-1761910200-1761913800@gulfstreamschool.org
SUMMARY:Halloween Hot Lunch (Main Campus Only)
DESCRIPTION:
URL:https://gulfstreamschool.org/event/halloween-hot-lunch-main-campus/
CATEGORIES:Holidays
END:VEVENT
BEGIN:VEVENT
DTSTART;TZID=America/New_York:20251031T093000
DTEND;TZID=America/New_York:20251031T103000
DTSTAMP:20260424T084307
CREATED:20250603T181923Z
LAST-MODIFIED:20250603T190329Z
UID:3886-1761903000-1761906600@gulfstreamschool.org
SUMMARY:DBC Trunk-or-Treat (PK1-PK3)
DESCRIPTION:
URL:https://gulfstreamschool.org/event/dbc-trunk-or-treat-pk1-pk3/
CATEGORIES:Holidays
END:VEVENT
BEGIN:VEVENT
DTSTART;TZID=America/New_York:20251031T083000
DTEND;TZID=America/New_York:20251031T090000
DTSTAMP:20260424T084307
CREATED:20250603T181823Z
LAST-MODIFIED:20250603T181823Z
UID:3885-1761899400-1761901200@gulfstreamschool.org
SUMMARY:Halloween Parade PK4-Grade 8
DESCRIPTION:
URL:https://gulfstreamschool.org/event/halloween-parade-pk4-grade-8/
CATEGORIES:Holidays
END:VEVENT
END:VCALENDAR