BEGIN:VCALENDAR
VERSION:2.0
PRODID:-//Gulf Stream School - ECPv6.15.14//NONSGML v1.0//EN
CALSCALE:GREGORIAN
METHOD:PUBLISH
X-WR-CALNAME:Gulf Stream School
X-ORIGINAL-URL:https://gulfstreamschool.org
X-WR-CALDESC:Events for Gulf Stream School
REFRESH-INTERVAL;VALUE=DURATION:PT1H
X-Robots-Tag:noindex
X-PUBLISHED-TTL:PT1H
BEGIN:VTIMEZONE
TZID:America/New_York
BEGIN:DAYLIGHT
TZOFFSETFROM:-0500
TZOFFSETTO:-0400
TZNAME:EDT
DTSTART:20240310T070000
END:DAYLIGHT
BEGIN:STANDARD
TZOFFSETFROM:-0400
TZOFFSETTO:-0500
TZNAME:EST
DTSTART:20241103T060000
END:STANDARD
BEGIN:DAYLIGHT
TZOFFSETFROM:-0500
TZOFFSETTO:-0400
TZNAME:EDT
DTSTART:20250309T070000
END:DAYLIGHT
BEGIN:STANDARD
TZOFFSETFROM:-0400
TZOFFSETTO:-0500
TZNAME:EST
DTSTART:20251102T060000
END:STANDARD
BEGIN:DAYLIGHT
TZOFFSETFROM:-0500
TZOFFSETTO:-0400
TZNAME:EDT
DTSTART:20260308T070000
END:DAYLIGHT
BEGIN:STANDARD
TZOFFSETFROM:-0400
TZOFFSETTO:-0500
TZNAME:EST
DTSTART:20261101T060000
END:STANDARD
END:VTIMEZONE
BEGIN:VEVENT
DTSTART;VALUE=DATE:20250616
DTEND;VALUE=DATE:20250617
DTSTAMP:20260420T043549
CREATED:20250528T184109Z
LAST-MODIFIED:20250528T184109Z
UID:3848-1750032000-1750118399@gulfstreamschool.org
SUMMARY:Summer Camp (Session 2)
DESCRIPTION:6/16-6/20
URL:https://gulfstreamschool.org/event/summer-camp-session-2/
LOCATION:FL
END:VEVENT
BEGIN:VEVENT
DTSTART;VALUE=DATE:20250609
DTEND;VALUE=DATE:20250610
DTSTAMP:20260420T043549
CREATED:20250528T183812Z
LAST-MODIFIED:20250528T183812Z
UID:3847-1749427200-1749513599@gulfstreamschool.org
SUMMARY:Summer Camp (Session 1)
DESCRIPTION:6/9 – 6/13
URL:https://gulfstreamschool.org/event/summer-camp-session-1/
LOCATION:FL
END:VEVENT
BEGIN:VEVENT
DTSTART;VALUE=DATE:20250608
DTEND;VALUE=DATE:20250609
DTSTAMP:20260420T043549
CREATED:20250603T151123Z
LAST-MODIFIED:20250603T151123Z
UID:3861-1749340800-1749427199@gulfstreamschool.org
SUMMARY:Day 2
DESCRIPTION:
URL:https://gulfstreamschool.org/event/day-2-7/
LOCATION:FL
END:VEVENT
BEGIN:VEVENT
DTSTART;TZID=America/New_York:20250606T100000
DTEND;TZID=America/New_York:20250606T120000
DTSTAMP:20260420T043549
CREATED:20240516T200721Z
LAST-MODIFIED:20240516T200721Z
UID:3379-1749204000-1749211200@gulfstreamschool.org
SUMMARY:Graduation; 12:00 p.m. Dismissal
DESCRIPTION:
URL:https://gulfstreamschool.org/event/graduation-1200-p-m-dismissal-2/
LOCATION:FL
END:VEVENT
BEGIN:VEVENT
DTSTART;TZID=America/New_York:20250605T090000
DTEND;TZID=America/New_York:20250605T100000
DTSTAMP:20260420T043549
CREATED:20250428T191902Z
LAST-MODIFIED:20250428T191916Z
UID:3789-1749114000-1749117600@gulfstreamschool.org
SUMMARY:PK3 Recognition Day (Main Campus)
DESCRIPTION:
URL:https://gulfstreamschool.org/event/pk3-recognition-day-main-campus/
LOCATION:FL
CATEGORIES:Events
END:VEVENT
BEGIN:VEVENT
DTSTART;VALUE=DATE:20250605
DTEND;VALUE=DATE:20250606
DTSTAMP:20260420T043549
CREATED:20250428T191944Z
LAST-MODIFIED:20250428T191944Z
UID:3790-1749081600-1749167999@gulfstreamschool.org
SUMMARY:Final Day of ASP
DESCRIPTION:
URL:https://gulfstreamschool.org/event/final-day-of-asp/
LOCATION:FL
END:VEVENT
BEGIN:VEVENT
DTSTART;VALUE=DATE:20250605
DTEND;VALUE=DATE:20250606
DTSTAMP:20260420T043549
CREATED:20250428T191500Z
LAST-MODIFIED:20250428T191500Z
UID:3788-1749081600-1749167999@gulfstreamschool.org
SUMMARY:Day 2
DESCRIPTION:
URL:https://gulfstreamschool.org/event/day-2-3/
LOCATION:FL
END:VEVENT
BEGIN:VEVENT
DTSTART;VALUE=DATE:20250604
DTEND;VALUE=DATE:20250605
DTSTAMP:20260420T043549
CREATED:20250428T191353Z
LAST-MODIFIED:20250428T191353Z
UID:3787-1748995200-1749081599@gulfstreamschool.org
SUMMARY:Day 1
DESCRIPTION:
URL:https://gulfstreamschool.org/event/day-1-4/
LOCATION:FL
END:VEVENT
BEGIN:VEVENT
DTSTART;VALUE=DATE:20250603
DTEND;VALUE=DATE:20250604
DTSTAMP:20260420T043549
CREATED:20250603T195103Z
LAST-MODIFIED:20250603T195103Z
UID:3895-1748908800-1748995199@gulfstreamschool.org
SUMMARY:Day 3
DESCRIPTION:
URL:https://gulfstreamschool.org/event/day-3-10/
LOCATION:FL
END:VEVENT
BEGIN:VEVENT
DTSTART;VALUE=DATE:20250603
DTEND;VALUE=DATE:20250604
DTSTAMP:20260420T043549
CREATED:20250428T191327Z
LAST-MODIFIED:20250428T191327Z
UID:3786-1748908800-1748995199@gulfstreamschool.org
SUMMARY:Day 7
DESCRIPTION:
URL:https://gulfstreamschool.org/event/day-7-3/
LOCATION:FL
END:VEVENT
BEGIN:VEVENT
DTSTART;VALUE=DATE:20250602
DTEND;VALUE=DATE:20250603
DTSTAMP:20260420T043549
CREATED:20250428T191257Z
LAST-MODIFIED:20250428T191257Z
UID:3785-1748822400-1748908799@gulfstreamschool.org
SUMMARY:Day 6
DESCRIPTION:
URL:https://gulfstreamschool.org/event/day-6/
LOCATION:FL
END:VEVENT
BEGIN:VEVENT
DTSTART;TZID=America/New_York:20250530T163000
DTEND;TZID=America/New_York:20250530T183000
DTSTAMP:20260420T043549
CREATED:20250428T133216Z
LAST-MODIFIED:20250512T123434Z
UID:3755-1748622600-1748629800@gulfstreamschool.org
SUMMARY:Faculty & Staff Appreciation Celebration
DESCRIPTION:
URL:https://gulfstreamschool.org/event/faculty-appreciation-luncheon/
LOCATION:Throw Social Delray Beach
CATEGORIES:Events
END:VEVENT
BEGIN:VEVENT
DTSTART;TZID=America/New_York:20250530T151500
DTEND;TZID=America/New_York:20250530T153000
DTSTAMP:20260420T043549
CREATED:20250428T191032Z
LAST-MODIFIED:20250623T170457Z
UID:3784-1748618100-1748619000@gulfstreamschool.org
SUMMARY:Dismissal @ 3:15 p.m.
DESCRIPTION:No ASP.
URL:https://gulfstreamschool.org/event/dismissal-315-p-m/
LOCATION:FL
CATEGORIES:Events
END:VEVENT
BEGIN:VEVENT
DTSTART;TZID=America/New_York:20250530T081500
DTEND;TZID=America/New_York:20250530T081500
DTSTAMP:20260420T043549
CREATED:20250428T190426Z
LAST-MODIFIED:20250428T190426Z
UID:3783-1748592900-1748592900@gulfstreamschool.org
SUMMARY:Awards Assembly
DESCRIPTION:
URL:https://gulfstreamschool.org/event/awards-assembly/
LOCATION:FL
CATEGORIES:Events
END:VEVENT
BEGIN:VEVENT
DTSTART;VALUE=DATE:20250530
DTEND;VALUE=DATE:20250531
DTSTAMP:20260420T043549
CREATED:20250428T185152Z
LAST-MODIFIED:20250428T185152Z
UID:3782-1748563200-1748649599@gulfstreamschool.org
SUMMARY:Day 5
DESCRIPTION:
URL:https://gulfstreamschool.org/event/day-5/
LOCATION:FL
END:VEVENT
BEGIN:VEVENT
DTSTART;TZID=America/New_York:20250529T081500
DTEND;TZID=America/New_York:20250529T091500
DTSTAMP:20260420T043549
CREATED:20250428T183138Z
LAST-MODIFIED:20250428T184635Z
UID:3781-1748506500-1748510100@gulfstreamschool.org
SUMMARY:ASP Dance Assembly
DESCRIPTION:
URL:https://gulfstreamschool.org/event/asp-dance-assembly/
LOCATION:FL
CATEGORIES:Events
END:VEVENT
BEGIN:VEVENT
DTSTART;VALUE=DATE:20250529
DTEND;VALUE=DATE:20250530
DTSTAMP:20260420T043549
CREATED:20250428T173932Z
LAST-MODIFIED:20250428T173932Z
UID:3771-1748476800-1748563199@gulfstreamschool.org
SUMMARY:Day 4
DESCRIPTION:
URL:https://gulfstreamschool.org/event/day-4/
LOCATION:FL
END:VEVENT
BEGIN:VEVENT
DTSTART;VALUE=DATE:20250528
DTEND;VALUE=DATE:20250529
DTSTAMP:20260420T043549
CREATED:20250428T151617Z
LAST-MODIFIED:20250428T151617Z
UID:3769-1748390400-1748476799@gulfstreamschool.org
SUMMARY:Day 3
DESCRIPTION:
URL:https://gulfstreamschool.org/event/day-3/
LOCATION:FL
END:VEVENT
BEGIN:VEVENT
DTSTART;TZID=America/New_York:20250527T075000
DTEND;TZID=America/New_York:20250527T090000
DTSTAMP:20260420T043549
CREATED:20250428T151552Z
LAST-MODIFIED:20250428T151552Z
UID:3768-1748332200-1748336400@gulfstreamschool.org
SUMMARY:Faculty Meetings (Main Campus Only)
DESCRIPTION:Student arrival @ 9:00 a.m.
URL:https://gulfstreamschool.org/event/faculty-meetings-main-campus-only/
LOCATION:FL
CATEGORIES:Faculty
END:VEVENT
BEGIN:VEVENT
DTSTART;VALUE=DATE:20250527
DTEND;VALUE=DATE:20250528
DTSTAMP:20260420T043549
CREATED:20250428T182033Z
LAST-MODIFIED:20250428T182337Z
UID:3778-1748304000-1748390399@gulfstreamschool.org
SUMMARY:Day 2
DESCRIPTION:
URL:https://gulfstreamschool.org/event/day-2-2/
LOCATION:FL
END:VEVENT
BEGIN:VEVENT
DTSTART;VALUE=DATE:20250526
DTEND;VALUE=DATE:20250527
DTSTAMP:20260420T043549
CREATED:20250428T151112Z
LAST-MODIFIED:20250428T151112Z
UID:3766-1748217600-1748303999@gulfstreamschool.org
SUMMARY:Memorial Day (School Closed)
DESCRIPTION:
URL:https://gulfstreamschool.org/event/memorial-day-school-closed/
LOCATION:FL
END:VEVENT
BEGIN:VEVENT
DTSTART;TZID=America/New_York:20250523T100000
DTEND;TZID=America/New_York:20250523T110000
DTSTAMP:20260420T043549
CREATED:20250428T145550Z
LAST-MODIFIED:20250428T145550Z
UID:3762-1747994400-1747998000@gulfstreamschool.org
SUMMARY:Kindergarten Recognition
DESCRIPTION:
URL:https://gulfstreamschool.org/event/kindergarten-recognition-2/
LOCATION:FL
CATEGORIES:Events
END:VEVENT
BEGIN:VEVENT
DTSTART;VALUE=DATE:20250522
DTEND;VALUE=DATE:20250523
DTSTAMP:20260420T043549
CREATED:20250428T141131Z
LAST-MODIFIED:20250428T141131Z
UID:3756-1747872000-1747958399@gulfstreamschool.org
SUMMARY:Day 7
DESCRIPTION:
URL:https://gulfstreamschool.org/event/day-7-2/
LOCATION:FL
END:VEVENT
BEGIN:VEVENT
DTSTART;VALUE=DATE:20250521
DTEND;VALUE=DATE:20250522
DTSTAMP:20260420T043549
CREATED:20250402T192447Z
LAST-MODIFIED:20250402T192447Z
UID:3728-1747785600-1747871999@gulfstreamschool.org
SUMMARY:Parents' Auxiliary Luncheon
DESCRIPTION:
URL:https://gulfstreamschool.org/event/parents-auxiliary-luncheon/
LOCATION:FL
END:VEVENT
BEGIN:VEVENT
DTSTART;TZID=America/New_York:20250512T080000
DTEND;TZID=America/New_York:20250512T090000
DTSTAMP:20260420T043549
CREATED:20250512T134851Z
LAST-MODIFIED:20250512T134851Z
UID:3804-1747036800-1747040400@gulfstreamschool.org
SUMMARY:Main Campus Grades (PK4-Grade 8) New Family Breakfast & Orientation
DESCRIPTION:
URL:https://gulfstreamschool.org/event/main-campus-grades-pk4-grade-8-new-family-breakfast-orientation/
LOCATION:FL
CATEGORIES:Events
END:VEVENT
BEGIN:VEVENT
DTSTART;TZID=America/New_York:20250512T000000
DTEND;TZID=America/New_York:20250512T000000
DTSTAMP:20260420T043549
CREATED:20250512T131933Z
LAST-MODIFIED:20250512T131933Z
UID:3772-1747008000-1747008000@gulfstreamschool.org
SUMMARY:Day 4
DESCRIPTION:
URL:https://gulfstreamschool.org/event/day-4-2/
LOCATION:FL
END:VEVENT
BEGIN:VEVENT
DTSTART;VALUE=DATE:20250512
DTEND;VALUE=DATE:20250513
DTSTAMP:20260420T043549
CREATED:20250514T145136Z
LAST-MODIFIED:20250514T145136Z
UID:3828-1747008000-1747094399@gulfstreamschool.org
SUMMARY:Day 7
DESCRIPTION:
URL:https://gulfstreamschool.org/event/day-7-4/
LOCATION:FL
END:VEVENT
BEGIN:VEVENT
DTSTART;VALUE=DATE:20250504
DTEND;VALUE=DATE:20250505
DTSTAMP:20260420T043549
CREATED:20250612T135927Z
LAST-MODIFIED:20250612T135927Z
UID:4057-1746316800-1746403199@gulfstreamschool.org
SUMMARY:Day 7
DESCRIPTION:
URL:https://gulfstreamschool.org/event/day-7-22/
LOCATION:FL
END:VEVENT
BEGIN:VEVENT
DTSTART;VALUE=DATE:20250128
DTEND;VALUE=DATE:20250129
DTSTAMP:20260420T043549
CREATED:20250610T150650Z
LAST-MODIFIED:20250610T151004Z
UID:3968-1738022400-1738108799@gulfstreamschool.org
SUMMARY:Day 2
DESCRIPTION:
URL:https://gulfstreamschool.org/event/day-2-16/
LOCATION:FL
END:VEVENT
END:VCALENDAR